BEGIN:VCALENDAR
VERSION:2.0
PRODID:-//pretix//pretix.eu//
BEGIN:VTIMEZONE
TZID:Europe/Berlin
BEGIN:STANDARD
DTSTART:20001029T040000
RRULE:FREQ=YEARLY;BYDAY=-1SU;BYMONTH=10
TZNAME:CET
TZOFFSETFROM:+0200
TZOFFSETTO:+0100
END:STANDARD
BEGIN:DAYLIGHT
DTSTART:20000326T030000
RRULE:FREQ=YEARLY;BYDAY=-1SU;BYMONTH=3
TZNAME:CEST
TZOFFSETFROM:+0100
TZOFFSETTO:+0200
END:DAYLIGHT
END:VTIMEZONE
BEGIN:VEVENT
UID:pretix-fwa-eselein25-4743181@event.waldorf-augsburg.de
DTSTART;TZID=Europe/Berlin:20251129T143000
DTEND;TZID=Europe/Berlin:20251129T150000
DESCRIPTION:Tickets: https://event.waldorf-augsburg.de/eselein25/4743181/\n
 Veranstalter: Freie Waldorfschule und Waldorfkindergärten Augsburg e.V.
DTSTAMP:20260419T182011Z
LOCATION:Freie Waldorfschule Augsburg\, Dr.-Schmelzing-Str. 52\, 86169 Augs
 burg
SUMMARY:2. Vorstellung
END:VEVENT
END:VCALENDAR
